BEGIN:VCALENDAR
VERSION:2.0
PRODID:-//wp-events-plugin.com//7.2.3.1//EN
URL:webcal://www.musikverein-waizenkirchen.at/events.ics
NAME:MVW Kalender
X-WR-CALNAME:MVW Kalender
DESCRIPTION:Termine des Musikvereins Waizenkirchen
X-WR-CALDESC:Termine des Musikvereins Waizenkirchen
REFRESH-INTERVAL;VALUE=DURATION:PT3H
X-PUBLISHED-TTL:PT3H
METHOD:PUBLISH
TZID:Europe/Vienna
X-WR-TIMEZONE:Europe/Vienna
BEGIN:VEVENT
UID:134@musikverein-waizenkirchen.at
DTSTART;TZID=Europe/Vienna:20250304T130000
DTEND;TZID=Europe/Vienna:20250304T130000
DTSTAMP:20241217T150425Z
URL:https://www.musikverein-waizenkirchen.at/veranstaltungen/faschingsumzu
 g/
SUMMARY:MVW Faschingsumzug
DESCRIPTION:MVW Treffpunkt Bahnhof
CATEGORIES:Termin
END:VEVENT
BEGIN:VTIMEZONE
TZID:Europe/Vienna
X-LIC-LOCATION:Europe/Vienna
BEGIN:STANDARD
DTSTART:20241027T020000
TZOFFSETFROM:+0200
TZOFFSETTO:+0100
TZNAME:CET
END:STANDARD
END:VTIMEZONE
END:VCALENDAR