BEGIN:VCALENDAR
VERSION:2.0
PRODID:-//wp-events-plugin.com//7.2.3.1//EN
URL:webcal://www.musikverein-waizenkirchen.at/events.ics
NAME:MVW Kalender
X-WR-CALNAME:MVW Kalender
DESCRIPTION:Termine des Musikvereins Waizenkirchen
X-WR-CALDESC:Termine des Musikvereins Waizenkirchen
REFRESH-INTERVAL;VALUE=DURATION:PT3H
X-PUBLISHED-TTL:PT3H
METHOD:PUBLISH
TZID:Europe/Vienna
X-WR-TIMEZONE:Europe/Vienna
BEGIN:VEVENT
UID:3@musikverein-waizenkirchen.at
DTSTART;TZID=Europe/Vienna;VALUE=DATE:20240621
DTEND;TZID=Europe/Vienna;VALUE=DATE:20240624
DTSTAMP:20230929T133826Z
URL:https://www.musikverein-waizenkirchen.at/veranstaltungen/bezirksmusikf
 est-waizenkirchen/
SUMMARY:MVW Bezirksmusikfest Waizenkirchen
DESCRIPTION:MVW 
ATTACH;FMTTYPE=image/jpeg:https://www.musikverein-waizenkirchen.at/wordpre
 ss/wp-content/uploads/2022/05/MVWzk_BMF24_LOGO_T-SHIRT_20220415_final_Pfad
 e.jpg
CATEGORIES:Highlight,Termin
END:VEVENT
BEGIN:VTIMEZONE
TZID:Europe/Vienna
X-LIC-LOCATION:Europe/Vienna
BEGIN:DAYLIGHT
DTSTART:20240331T030000
TZOFFSETFROM:+0100
TZOFFSETTO:+0200
TZNAME:CEST
END:DAYLIGHT
END:VTIMEZONE
END:VCALENDAR